BEGIN:VCALENDAR
VERSION:2.0
PRODID:icalendar-ruby
CALSCALE:GREGORIAN
METHOD:PUBLISH
BEGIN:VEVENT
DTSTAMP:20260422T053229Z
UID:12-912330@holytrinity-elca.org
DTSTART:20260809T124500Z
DTEND:20260809T134500Z
CLASS:PUBLIC
CREATED:20260421T211732
DESCRIPTION:Worship Booklet\nLivestream - YouTube\nLivestream - Facebook\nI
 nterested in serving in worship?  We need Ushers\, Lector/Communion Assis
 tants\, and Altar Guild for every service.  Everyone is welcome and train
 ing is available!  Please click below to sign up to serve.
LAST-MODIFIED:20260421T211732
LOCATION:
SUMMARY:Worship Service
URL;VALUE=URI:https://www.holytrinity-elca.org/events/worship-service--12/2
 026-08-09
ATTACH;FILENAME=confirmation-connection-altar.jpg;FMTTYPE=image/jpeg:https:
 //dq5pwpg1q8ru0.cloudfront.net/2025/06/02/21/17/22/ca66414e-6744-4782-8a24
 -bb87bc8ca305/confirmation-connection-altar.jpg
END:VEVENT
END:VCALENDAR
