BEGIN:VCALENDAR
VERSION:2.0
PRODID:icalendar-ruby
CALSCALE:GREGORIAN
METHOD:PUBLISH
BEGIN:VEVENT
DTSTAMP:20260424T080451Z
UID:138-890909@holytrinity-elca.org
DTSTART;VALUE=DATE:20260425
DTEND;VALUE=DATE:20260510
CLASS:PUBLIC
CREATED:20260417T115158
DESCRIPTION:For Mother’s Day this year Social Ministry is helping Madonna
  House offer assistance to new mothers in need. The “Mother’s Day Baby
  Shower” will be held from April 25th through May 10. We will be collect
 ing the following items: diapers-newborn\, sizes 1\, 2\, 5\, 6 &amp\; 7\, 
 baby lotion\, baby bath/shampoo\, diaper ointment\, baby washcloths and to
 wels\, and onesies.  There will be a table set up in Fellowship Hall for 
 any donations of new items\, since Madonna House only gives mothers new it
 ems for their infants. If you do have used items to donate\, we can give t
 hem to Madonna House for their thrift store.  \nMadonna House in Neptune
  has served the community since 1987 under the leadership of Rebecca Blons
 ki and with the help of committed volunteers. They have literally helped t
 ens of thousands of local children.\nThank you for your continuous support
  of the projects led by Social Ministry. 
LAST-MODIFIED:20260417T115158
LOCATION:Fellowship Hall
SUMMARY:Help for New Moms
URL;VALUE=URI:https://www.holytrinity-elca.org/events/help-for-new-moms/202
 6-04-25
ATTACH;FILENAME=flowers_29767c.png;FMTTYPE=image/png:https://dq5pwpg1q8ru0.
 cloudfront.net/2026/04/17/15/51/58/ac25ba6f-82af-4f70-b722-0a197976121b/fl
 owers_29767c.png
END:VEVENT
END:VCALENDAR
