BEGIN:VCALENDAR
VERSION:2.0
PRODID:icalendar-ruby
CALSCALE:GREGORIAN
METHOD:PUBLISH
BEGIN:VEVENT
DTSTAMP:20260425T011612Z
UID:25-925927@holytrinity-elca.org
DTSTART:20261015T230000Z
DTEND:20261016T010000Z
CLASS:PUBLIC
CREATED:20260424T193947
DESCRIPTION:
LAST-MODIFIED:20260424T193947
LOCATION:Choir Loft
SUMMARY:Choir Rehearsal
URL;VALUE=URI:https://www.holytrinity-elca.org/events/choir-rehearsal/2026-
 10-15
ATTACH;FILENAME=Music-Ministry-1-smaller-pixels.jpg;FMTTYPE=image/jpeg:http
 s://dq5pwpg1q8ru0.cloudfront.net/2025/06/07/16/48/28/b1b4f9ae-3c1d-4970-8c
 b7-b63c90e65b1f/Music-Ministry-1-smaller-pixels.jpg
END:VEVENT
END:VCALENDAR
