BEGIN:VCALENDAR
VERSION:2.0
PRODID:icalendar-ruby
CALSCALE:GREGORIAN
METHOD:PUBLISH
BEGIN:VEVENT
DTSTAMP:20260423T202150Z
UID:28-919738@holytrinity-elca.org
DTSTART:20260919T123000Z
DTEND:20260919T133000Z
CLASS:PUBLIC
CREATED:20260423T141410
DESCRIPTION:24 hour hotline: 1-800-245-1377\nhttps://www.nnjaa.org
LAST-MODIFIED:20260423T141410
LOCATION:Council Room
SUMMARY:Alcoholics Anonymous
URL;VALUE=URI:https://www.holytrinity-elca.org/events/alcoholics-anonymous/
 2026-09-19
ATTACH;FILENAME=frank-mckenna-4V8JxijgZ_c-unsplash.jpg;FMTTYPE=image/jpeg:h
 ttps://dq5pwpg1q8ru0.cloudfront.net/2025/06/07/17/31/03/688a0841-85ec-467e
 -86ac-c2a2a7f708b5/frank-mckenna-4V8JxijgZ_c-unsplash.jpg
END:VEVENT
END:VCALENDAR
